BEGIN:VCALENDAR
VERSION:2.0
PRODID:-//wp-events-plugin.com//7.2.3.1//EN
TZID:America/New_York
X-WR-TIMEZONE:America/New_York
BEGIN:VEVENT
UID:745@floridafarmbureau.org
DTSTART;TZID=America/New_York;VALUE=DATE:20250124
DTEND;TZID=America/New_York;VALUE=DATE:20250130
DTSTAMP:20241204T150951Z
URL:https://floridafarmbureau.org/events/afbf-annual-convention-2/
SUMMARY:AFBF Annual Convention
DESCRIPTION:For information on the 2025 American Farm Bureau Federation Ann
 ual Convention\, click here. 
END:VEVENT
BEGIN:VTIMEZONE
TZID:America/New_York
X-LIC-LOCATION:America/New_York
BEGIN:STANDARD
DTSTART:20241103T010000
TZOFFSETFROM:-0400
TZOFFSETTO:-0500
TZNAME:EST
END:STANDARD
END:VTIMEZONE
END:VCALENDAR