BEGIN:VCALENDAR
VERSION:2.0
PRODID:-//wp-events-plugin.com//7.2.3.1//EN
TZID:America/New_York
X-WR-TIMEZONE:America/New_York
BEGIN:VEVENT
UID:217@floridafarmbureau.org
DTSTART;TZID=America/New_York:20171003T180000
DTEND;TZID=America/New_York:20171003T180000
DTSTAMP:20170719T154943Z
URL:https://floridafarmbureau.org/events/alachua-county-farm-bureau-annual
 -meeting/
SUMMARY:Alachua County Farm Bureau Annual Meeting
DESCRIPTION:Please RSVP to Peggi 386.418.4008
LOCATION:Santa Fe River Ranch\, 29220 NW 122nd Street \, Alachua\, Florida/
 Alachua\, United States
GEO:29.90568349999999;-82.47623490000001
X-APPLE-STRUCTURED-LOCATION;VALUE=URI;X-ADDRESS=29220 NW 122nd Street \, Al
 achua\, Florida/Alachua\, United States;X-APPLE-RADIUS=100;X-TITLE=Santa F
 e River Ranch:geo:29.90568349999999,-82.47623490000001
END:VEVENT
BEGIN:VTIMEZONE
TZID:America/New_York
X-LIC-LOCATION:America/New_York
BEGIN:DAYLIGHT
DTSTART:20170312T030000
TZOFFSETFROM:-0500
TZOFFSETTO:-0400
TZNAME:EDT
END:DAYLIGHT
END:VTIMEZONE
END:VCALENDAR