BEGIN:VCALENDAR
VERSION:2.0
PRODID:-//wp-events-plugin.com//7.2.3.1//EN
TZID:America/New_York
X-WR-TIMEZONE:America/New_York
BEGIN:VEVENT
UID:647@floridafarmbureau.org
DTSTART;TZID=America/New_York;VALUE=DATE:20231104
DTEND;TZID=America/New_York;VALUE=DATE:20231105
DTSTAMP:20231023T144715Z
URL:https://floridafarmbureau.org/events/alachua-county-farm-city-week/
SUMMARY:Alachua County Farm-City Week
DESCRIPTION:Join Alachua County Young Farmers &amp\; Ranchers at the Cade M
 useum for the Food and Ag Festival. There will be live music\, food\, vend
 ors and agricultural displays.\n\n811 S. Main Street\nGainesville\, FL 326
 01\n\n&nbsp\;
END:VEVENT
BEGIN:VTIMEZONE
TZID:America/New_York
X-LIC-LOCATION:America/New_York
BEGIN:DAYLIGHT
DTSTART:20230312T030000
TZOFFSETFROM:-0500
TZOFFSETTO:-0400
TZNAME:EDT
END:DAYLIGHT
END:VTIMEZONE
END:VCALENDAR