BEGIN:VCALENDAR
VERSION:2.0
PRODID:-//wp-events-plugin.com//7.2.3.1//EN
TZID:America/New_York
X-WR-TIMEZONE:America/New_York
BEGIN:VEVENT
UID:66@floridafarmbureau.org
DTSTART;TZID=America/New_York:20160825T180000
DTEND;TZID=America/New_York:20160825T180000
DTSTAMP:20160729T135949Z
URL:https://floridafarmbureau.org/events/bay-county-annual-meeting/
SUMMARY:Bay Co. Farm Bureau Annual Meeting
DESCRIPTION:Please RSVP to Deborah Pritchett in the county office at 850.87
 2.2077\n\n**Please note: the meeting will begin at 6:00 PM CST
LOCATION:Hiland Park Baptist Church- Fellowship Hall\, 2611 US Hwy 231\, Pa
 nama City\, Florida\, United States
GEO:30.2002924;-85.62646319999999
X-APPLE-STRUCTURED-LOCATION;VALUE=URI;X-ADDRESS=2611 US Hwy 231\, Panama Ci
 ty\, Florida\, United States;X-APPLE-RADIUS=100;X-TITLE=Hiland Park Baptis
 t Church- Fellowship Hall:geo:30.2002924,-85.62646319999999
END:VEVENT
BEGIN:VTIMEZONE
TZID:America/New_York
X-LIC-LOCATION:America/New_York
BEGIN:DAYLIGHT
DTSTART:20160313T030000
TZOFFSETFROM:-0500
TZOFFSETTO:-0400
TZNAME:EDT
END:DAYLIGHT
END:VTIMEZONE
END:VCALENDAR