BEGIN:VCALENDAR
VERSION:2.0
PRODID:-//wp-events-plugin.com//7.2.3.1//EN
TZID:America/New_York
X-WR-TIMEZONE:America/New_York
BEGIN:VEVENT
UID:287@floridafarmbureau.org
DTSTART:20180928T000000Z
DTEND:20180928T020000Z
DTSTAMP:20180620T181313Z
URL:https://floridafarmbureau.org/events/bay-county-farm-bureau-annual-mee
 ting-2/
SUMMARY:Bay County Farm Bureau Annual Meeting
DESCRIPTION:
LOCATION:Hiland Park Baptist Church- Fellowship Hall\, 2611 US Hwy 231\, Pa
 nama City\, Florida\, United States
GEO:30.2002924;-85.62646319999999
X-APPLE-STRUCTURED-LOCATION;VALUE=URI;X-ADDRESS=2611 US Hwy 231\, Panama Ci
 ty\, Florida\, United States;X-APPLE-RADIUS=100;X-TITLE=Hiland Park Baptis
 t Church- Fellowship Hall:geo:30.2002924,-85.62646319999999
END:VEVENT
END:VCALENDAR