BEGIN:VCALENDAR
VERSION:2.0
PRODID:-//wp-events-plugin.com//7.2.3.1//EN
TZID:America/New_York
X-WR-TIMEZONE:America/New_York
BEGIN:VEVENT
UID:182@floridafarmbureau.org
DTSTART;TZID=America/New_York:20170925T183000
DTEND;TZID=America/New_York:20170925T183000
DTSTAMP:20170510T191002Z
URL:https://floridafarmbureau.org/events/clay-county-farm-bureau-annual-me
 eting/
SUMMARY:Clay County Farm Bureau Annual Meeting
DESCRIPTION:Please RSVP to Terri in the county office 904-282-0644
LOCATION:Lake Asbury Jr. High School\, 2851 Sandridge Rd\, Green Cove Sprin
 gs\, FL\, United States
GEO:30.0442145;-81.80536560000002
X-APPLE-STRUCTURED-LOCATION;VALUE=URI;X-ADDRESS=2851 Sandridge Rd\, Green C
 ove Springs\, FL\, United States;X-APPLE-RADIUS=100;X-TITLE=Lake Asbury Jr
 . High School:geo:30.0442145,-81.80536560000002
END:VEVENT
BEGIN:VTIMEZONE
TZID:America/New_York
X-LIC-LOCATION:America/New_York
BEGIN:DAYLIGHT
DTSTART:20170312T030000
TZOFFSETFROM:-0500
TZOFFSETTO:-0400
TZNAME:EDT
END:DAYLIGHT
END:VTIMEZONE
END:VCALENDAR