BEGIN:VCALENDAR
VERSION:2.0
PRODID:-//wp-events-plugin.com//7.2.3.1//EN
TZID:America/New_York
X-WR-TIMEZONE:America/New_York
BEGIN:VEVENT
UID:76@floridafarmbureau.org
DTSTART;TZID=America/New_York:20160922T180000
DTEND;TZID=America/New_York:20160922T180000
DTSTAMP:20160518T194227Z
URL:https://floridafarmbureau.org/events/duval-co-farm-bureau-annual-meeti
 ng/
SUMMARY:Duval Co. Farm Bureau Annual Meeting
DESCRIPTION:Please RSVP to Denise Hilton at 904.768.4836.
LOCATION:Duval County Extension Office\, 1010 N McDuff Ave\, Jacksonville\,
  FL\, United States
GEO:30.337398;-81.70597900000001
X-APPLE-STRUCTURED-LOCATION;VALUE=URI;X-ADDRESS=1010 N McDuff Ave\, Jackson
 ville\, FL\, United States;X-APPLE-RADIUS=100;X-TITLE=Duval County Extensi
 on Office:geo:30.337398,-81.70597900000001
END:VEVENT
BEGIN:VTIMEZONE
TZID:America/New_York
X-LIC-LOCATION:America/New_York
BEGIN:DAYLIGHT
DTSTART:20160313T030000
TZOFFSETFROM:-0500
TZOFFSETTO:-0400
TZNAME:EDT
END:DAYLIGHT
END:VTIMEZONE
END:VCALENDAR