BEGIN:VCALENDAR
VERSION:2.0
PRODID:-//wp-events-plugin.com//7.2.3.1//EN
TZID:America/New_York
X-WR-TIMEZONE:America/New_York
BEGIN:VEVENT
UID:648@floridafarmbureau.org
DTSTART;TZID=America/New_York:20231116T120000
DTEND;TZID=America/New_York:20231116T140000
DTSTAMP:20231116T132101Z
URL:https://floridafarmbureau.org/events/duval-county-farm-city-week/
SUMMARY:Duval County Farm-City Week
DESCRIPTION:
END:VEVENT
BEGIN:VTIMEZONE
TZID:America/New_York
X-LIC-LOCATION:America/New_York
BEGIN:STANDARD
DTSTART:20231105T010000
TZOFFSETFROM:-0400
TZOFFSETTO:-0500
TZNAME:EST
END:STANDARD
END:VTIMEZONE
END:VCALENDAR