BEGIN:VCALENDAR
VERSION:2.0
PRODID:-//wp-events-plugin.com//7.2.3.1//EN
TZID:America/New_York
X-WR-TIMEZONE:America/New_York
BEGIN:VEVENT
UID:503@floridafarmbureau.org
DTSTART;TZID=America/New_York:20211014T180000
DTEND;TZID=America/New_York:20211014T200000
DTSTAMP:20210914T191526Z
URL:https://floridafarmbureau.org/events/hardee-county-farm-bureau-annual-
 meeting-4/
SUMMARY:Hardee County Farm Bureau Annual Meeting
DESCRIPTION:
LOCATION:Pioneer Park- Ullrich Building\, 650 Animal Way\, Zolfo Springs\, 
 FL \, 33890\, United States
X-APPLE-STRUCTURED-LOCATION;VALUE=URI;X-ADDRESS=650 Animal Way\, Zolfo Spri
 ngs\, FL \, 33890\, United States;X-APPLE-RADIUS=100;X-TITLE=Pioneer Park-
  Ullrich Building:geo:0,0
END:VEVENT
BEGIN:VTIMEZONE
TZID:America/New_York
X-LIC-LOCATION:America/New_York
BEGIN:DAYLIGHT
DTSTART:20210314T030000
TZOFFSETFROM:-0500
TZOFFSETTO:-0400
TZNAME:EDT
END:DAYLIGHT
END:VTIMEZONE
END:VCALENDAR