BEGIN:VCALENDAR
VERSION:2.0
PRODID:-//wp-events-plugin.com//7.2.3.1//EN
TZID:America/New_York
X-WR-TIMEZONE:America/New_York
BEGIN:VEVENT
UID:701@floridafarmbureau.org
DTSTART;TZID=America/New_York:20241008T000000
DTEND;TZID=America/New_York:20241008T000000
DTSTAMP:20241008T140259Z
URL:https://floridafarmbureau.org/events/hernando-citrus-county-annual-mee
 ting-3/
SUMMARY:POSTPONED Hernando/Citrus County Annual Meeting
DESCRIPTION:
END:VEVENT
BEGIN:VTIMEZONE
TZID:America/New_York
X-LIC-LOCATION:America/New_York
BEGIN:DAYLIGHT
DTSTART:20240310T030000
TZOFFSETFROM:-0500
TZOFFSETTO:-0400
TZNAME:EDT
END:DAYLIGHT
END:VTIMEZONE
END:VCALENDAR