BEGIN:VCALENDAR
VERSION:2.0
PRODID:-//wp-events-plugin.com//7.2.3.1//EN
TZID:America/New_York
X-WR-TIMEZONE:America/New_York
BEGIN:VEVENT
UID:740@floridafarmbureau.org
DTSTART;TZID=America/New_York:20241017T190000
DTEND;TZID=America/New_York:20241017T210000
DTSTAMP:20240930T153513Z
URL:https://floridafarmbureau.org/events/highlands-county-annual-meeting-2
 /
SUMMARY:Highlands County Annual Meeting
DESCRIPTION:Florida Barn Weddings &amp\; Events\n3511 Skipper Rd.\nSebring\
 , FL 33875
END:VEVENT
BEGIN:VTIMEZONE
TZID:America/New_York
X-LIC-LOCATION:America/New_York
BEGIN:DAYLIGHT
DTSTART:20240310T030000
TZOFFSETFROM:-0500
TZOFFSETTO:-0400
TZNAME:EDT
END:DAYLIGHT
END:VTIMEZONE
END:VCALENDAR