BEGIN:VCALENDAR
VERSION:2.0
PRODID:-//wp-events-plugin.com//7.2.3.1//EN
TZID:America/New_York
X-WR-TIMEZONE:America/New_York
BEGIN:VEVENT
UID:762@floridafarmbureau.org
DTSTART;TZID=America/New_York:20250925T183000
DTEND;TZID=America/New_York:20250925T183000
DTSTAMP:20250811T174435Z
URL:https://floridafarmbureau.org/events/hillsborough-county-annual-meetin
 g-5/
SUMMARY:Hillsborough County Annual Meeting
DESCRIPTION:Florida Strawberry Festival\nTECO Expo Hall\n2301 W Oak Ave\nPl
 ant City\, FL 33563\n\nRSVP to Kaylee Poppell \n
END:VEVENT
BEGIN:VTIMEZONE
TZID:America/New_York
X-LIC-LOCATION:America/New_York
BEGIN:DAYLIGHT
DTSTART:20250309T030000
TZOFFSETFROM:-0500
TZOFFSETTO:-0400
TZNAME:EDT
END:DAYLIGHT
END:VTIMEZONE
END:VCALENDAR