BEGIN:VCALENDAR
VERSION:2.0
PRODID:-//wp-events-plugin.com//7.2.3.1//EN
TZID:America/New_York
X-WR-TIMEZONE:America/New_York
BEGIN:VEVENT
UID:316@floridafarmbureau.org
DTSTART;TZID=America/New_York:20180920T180000
DTEND;TZID=America/New_York:20180920T200000
DTSTAMP:20180620T195550Z
URL:https://floridafarmbureau.org/events/leon-county-farm-bureau-annual-me
 eting-2/
SUMMARY:Leon County Farm Bureau Annual Meeting
DESCRIPTION:
LOCATION:Women's Club of Tallahassee\, 1513 Fernando Drive\, Tallahassee\, 
 Florida\, 32612\, United States
GEO:30.459941;-84.27636100000001
X-APPLE-STRUCTURED-LOCATION;VALUE=URI;X-ADDRESS=1513 Fernando Drive\, Talla
 hassee\, Florida\, 32612\, United States;X-APPLE-RADIUS=100;X-TITLE=Women'
 s Club of Tallahassee:geo:30.459941,-84.27636100000001
END:VEVENT
BEGIN:VTIMEZONE
TZID:America/New_York
X-LIC-LOCATION:America/New_York
BEGIN:DAYLIGHT
DTSTART:20180311T030000
TZOFFSETFROM:-0500
TZOFFSETTO:-0400
TZNAME:EDT
END:DAYLIGHT
END:VTIMEZONE
END:VCALENDAR