BEGIN:VCALENDAR
VERSION:2.0
PRODID:-//wp-events-plugin.com//7.2.3.1//EN
TZID:America/New_York
X-WR-TIMEZONE:America/New_York
BEGIN:VEVENT
UID:616@floridafarmbureau.org
DTSTART;TZID=America/New_York:20230919T180000
DTEND;TZID=America/New_York:20230919T180000
DTSTAMP:20230719T152214Z
URL:https://floridafarmbureau.org/events/madison-county-annual-meeting-2/
SUMMARY:Madison County Annual Meeting
DESCRIPTION:Location: Madison Church of God\n771 NW Collin Kelly Hwy\nMadis
 on\, FL 32340\n\nRSVP to Lindsey Lawson
END:VEVENT
BEGIN:VTIMEZONE
TZID:America/New_York
X-LIC-LOCATION:America/New_York
BEGIN:DAYLIGHT
DTSTART:20230312T030000
TZOFFSETFROM:-0500
TZOFFSETTO:-0400
TZNAME:EDT
END:DAYLIGHT
END:VTIMEZONE
END:VCALENDAR