BEGIN:VCALENDAR
VERSION:2.0
PRODID:-//wp-events-plugin.com//7.2.3.1//EN
TZID:America/New_York
X-WR-TIMEZONE:America/New_York
BEGIN:VEVENT
UID:246@floridafarmbureau.org
DTSTART;TZID=America/New_York:20171017T183000
DTEND;TZID=America/New_York:20171017T183000
DTSTAMP:20170920T153941Z
URL:https://floridafarmbureau.org/events/madison-county-farm-bureau-annual
 -meeting-3/
SUMMARY:Madison County Farm Bureau Annual Meeting
DESCRIPTION:Please RSVP to 850.973.4071
LOCATION:Madison County Central School\, 2093 West US 90\, Madison\, FL/MAd
 ison\, 32340\, United States
GEO:30.478162;-83.44549030000002
X-APPLE-STRUCTURED-LOCATION;VALUE=URI;X-ADDRESS=2093 West US 90\, Madison\,
  FL/MAdison\, 32340\, United States;X-APPLE-RADIUS=100;X-TITLE=Madison Cou
 nty Central School:geo:30.478162,-83.44549030000002
END:VEVENT
BEGIN:VTIMEZONE
TZID:America/New_York
X-LIC-LOCATION:America/New_York
BEGIN:DAYLIGHT
DTSTART:20170312T030000
TZOFFSETFROM:-0500
TZOFFSETTO:-0400
TZNAME:EDT
END:DAYLIGHT
END:VTIMEZONE
END:VCALENDAR