BEGIN:VCALENDAR
VERSION:2.0
PRODID:-//wp-events-plugin.com//7.2.3.1//EN
TZID:America/New_York
X-WR-TIMEZONE:America/New_York
BEGIN:VEVENT
UID:837@floridafarmbureau.org
DTSTART;TZID=America/New_York:20251118T120000
DTEND;TZID=America/New_York:20251118T140000
DTSTAMP:20251113T204631Z
URL:https://floridafarmbureau.org/events/madison-county-farm-city-week-lun
 cheon/
SUMMARY:Madison County Farm-City Week Luncheon
DESCRIPTION:Madison County Farm Bureau is hosting a luncheon to celebrate F
 arm-City Week on Nov. 18 at 12 pm at the Madison County UF/IFAS Extension 
 Office.\n\n184 NW College Loop\, Madison\, FL 32340\n\n&nbsp\;
END:VEVENT
BEGIN:VTIMEZONE
TZID:America/New_York
X-LIC-LOCATION:America/New_York
BEGIN:STANDARD
DTSTART:20251102T010000
TZOFFSETFROM:-0400
TZOFFSETTO:-0500
TZNAME:EST
END:STANDARD
END:VTIMEZONE
END:VCALENDAR