BEGIN:VCALENDAR
VERSION:2.0
PRODID:-//wp-events-plugin.com//7.2.3.1//EN
TZID:America/New_York
X-WR-TIMEZONE:America/New_York
BEGIN:VEVENT
UID:828@floridafarmbureau.org
DTSTART;TZID=America/New_York:20251121T000000
DTEND;TZID=America/New_York:20251121T000000
DTSTAMP:20251031T175923Z
URL:https://floridafarmbureau.org/events/okaloosa-county-farm-city-week-2/
SUMMARY:Okaloosa County Farm-City Week Parade
DESCRIPTION:Okaloosa County is holding its Farm-City Week parade and food g
 iveaway on Nov. 21. The parade will begin at Okaloosa County Farm Bureau a
 nd end at Woodlawn Baptist Church.\n\nThe event is a collaboration of Farm
  Bureau and community volunteers\, local farmers\, and members from the US
 DA’s Natural Resources Conservation Service and the county Extension off
 ice.
END:VEVENT
BEGIN:VTIMEZONE
TZID:America/New_York
X-LIC-LOCATION:America/New_York
BEGIN:STANDARD
DTSTART:20251102T010000
TZOFFSETFROM:-0400
TZOFFSETTO:-0500
TZNAME:EST
END:STANDARD
END:VTIMEZONE
END:VCALENDAR