BEGIN:VCALENDAR
VERSION:2.0
PRODID:-//wp-events-plugin.com//7.2.3.1//EN
TZID:America/New_York
X-WR-TIMEZONE:America/New_York
BEGIN:VEVENT
UID:651@floridafarmbureau.org
DTSTART;TZID=America/New_York;VALUE=DATE:20231117
DTEND;TZID=America/New_York;VALUE=DATE:20231118
DTSTAMP:20231113T170633Z
URL:https://floridafarmbureau.org/events/okaloosa-county-farm-city-week/
SUMMARY:Okaloosa County Farm-City Week
DESCRIPTION:Join Okaloosa County for a grocery drive followed by a farm-to-
 table style gala dinner\n\n1446 Commerce Dr\, Crestview\, Fl 32539
END:VEVENT
BEGIN:VTIMEZONE
TZID:America/New_York
X-LIC-LOCATION:America/New_York
BEGIN:STANDARD
DTSTART:20231105T010000
TZOFFSETFROM:-0400
TZOFFSETTO:-0500
TZNAME:EST
END:STANDARD
END:VTIMEZONE
END:VCALENDAR