BEGIN:VCALENDAR
VERSION:2.0
PRODID:-//wp-events-plugin.com//7.2.3.1//EN
TZID:America/New_York
X-WR-TIMEZONE:America/New_York
BEGIN:VEVENT
UID:61@floridafarmbureau.org
DTSTART;TZID=America/New_York:20160319T170000
DTEND;TZID=America/New_York:20160319T200000
DTSTAMP:20160307T172749Z
URL:https://floridafarmbureau.org/events/okeechobee-youth-livestock-show-b
 uyers-dinner/
SUMMARY:Okeechobee Youth Livestock Show Buyers Dinner
DESCRIPTION:Come out and Join Okeechobee County Farm Bureau for their 34th 
 Annual OYLS Steak BBQ on Saturday\, March 19\, 2016. 
LOCATION:Agri-Civic Center\, 4200 East Hwy 70\, Okeechobee\, Florida\, 3497
 2\, United States
GEO:27.247647;-80.78335900000002
X-APPLE-STRUCTURED-LOCATION;VALUE=URI;X-ADDRESS=4200 East Hwy 70\, Okeechob
 ee\, Florida\, 34972\, United States;X-APPLE-RADIUS=100;X-TITLE=Agri-Civic
  Center:geo:27.247647,-80.78335900000002
END:VEVENT
BEGIN:VTIMEZONE
TZID:America/New_York
X-LIC-LOCATION:America/New_York
BEGIN:DAYLIGHT
DTSTART:20160313T030000
TZOFFSETFROM:-0500
TZOFFSETTO:-0400
TZNAME:EDT
END:DAYLIGHT
END:VTIMEZONE
END:VCALENDAR