BEGIN:VCALENDAR
VERSION:2.0
PRODID:-//wp-events-plugin.com//7.2.3.1//EN
TZID:America/New_York
X-WR-TIMEZONE:America/New_York
BEGIN:VEVENT
UID:298@floridafarmbureau.org
DTSTART;TZID=America/New_York:20181001T180000
DTEND;TZID=America/New_York:20181001T200000
DTSTAMP:20180618T202120Z
URL:https://floridafarmbureau.org/events/orange-county-farm-bureau-annual-
 meeting-3/
SUMMARY:Orange County Farm Bureau Annual Meeting
DESCRIPTION:
LOCATION:Central Florida Fairgrounds\, 4603 W Colonial Drive\, Orlando\, Fl
 orida\, United States
GEO:28.5549196;-81.43826059999998
X-APPLE-STRUCTURED-LOCATION;VALUE=URI;X-ADDRESS=4603 W Colonial Drive\, Orl
 ando\, Florida\, United States;X-APPLE-RADIUS=100;X-TITLE=Central Florida 
 Fairgrounds:geo:28.5549196,-81.43826059999998
END:VEVENT
BEGIN:VTIMEZONE
TZID:America/New_York
X-LIC-LOCATION:America/New_York
BEGIN:DAYLIGHT
DTSTART:20180311T030000
TZOFFSETFROM:-0500
TZOFFSETTO:-0400
TZNAME:EDT
END:DAYLIGHT
END:VTIMEZONE
END:VCALENDAR