BEGIN:VCALENDAR
VERSION:2.0
PRODID:-//wp-events-plugin.com//7.2.3.1//EN
TZID:America/New_York
X-WR-TIMEZONE:America/New_York
BEGIN:VEVENT
UID:293@floridafarmbureau.org
DTSTART;TZID=America/New_York:20180924T180000
DTEND;TZID=America/New_York:20180924T200000
DTSTAMP:20180618T201119Z
URL:https://floridafarmbureau.org/events/putnam-st-johns-county-annual-mee
 ting/
SUMMARY:Putnam/St. Johns County Annual Meeting
DESCRIPTION:
LOCATION:Putnam County Fair Exhibit Hall\, 118 Fairgrounds Rd.\, East Palat
 ka\, Florida\, United States
GEO:29.6418783;-81.58778910000001
X-APPLE-STRUCTURED-LOCATION;VALUE=URI;X-ADDRESS=118 Fairgrounds Rd.\, East 
 Palatka\, Florida\, United States;X-APPLE-RADIUS=100;X-TITLE=Putnam County
  Fair Exhibit Hall:geo:29.6418783,-81.58778910000001
END:VEVENT
BEGIN:VTIMEZONE
TZID:America/New_York
X-LIC-LOCATION:America/New_York
BEGIN:DAYLIGHT
DTSTART:20180311T030000
TZOFFSETFROM:-0500
TZOFFSETTO:-0400
TZNAME:EDT
END:DAYLIGHT
END:VTIMEZONE
END:VCALENDAR