BEGIN:VCALENDAR
VERSION:2.0
PRODID:-//wp-events-plugin.com//7.2.3.1//EN
TZID:America/New_York
X-WR-TIMEZONE:America/New_York
BEGIN:VEVENT
UID:334@floridafarmbureau.org
DTSTART:20180906T233000Z
DTEND:20180907T013000Z
DTSTAMP:20180807T190948Z
URL:https://floridafarmbureau.org/events/santa-rosa-county-farm-bureau-ann
 ual-meeting-2/
SUMMARY:Santa Rosa County Farm Bureau Annual Meeting
DESCRIPTION:
LOCATION:Jay Civic Center\, 5259 Brooker Lane\, Jay\, FL\, United States
GEO:30.9519367;-87.16038530000003
X-APPLE-STRUCTURED-LOCATION;VALUE=URI;X-ADDRESS=5259 Brooker Lane\, Jay\, F
 L\, United States;X-APPLE-RADIUS=100;X-TITLE=Jay Civic Center:geo:30.95193
 67,-87.16038530000003
END:VEVENT
END:VCALENDAR