BEGIN:VCALENDAR
VERSION:2.0
PRODID:-//wp-events-plugin.com//7.2.3.1//EN
TZID:America/New_York
X-WR-TIMEZONE:America/New_York
BEGIN:VEVENT
UID:451@floridafarmbureau.org
DTSTART;TZID=America/New_York;VALUE=DATE:20200507
DTEND;TZID=America/New_York;VALUE=DATE:20200508
DTSTAMP:20200102T230607Z
URL:https://floridafarmbureau.org/events/suwannee-cares-celebration/
SUMMARY:Suwannee CARES Celebration
DESCRIPTION:Live Oak\, FL
END:VEVENT
BEGIN:VTIMEZONE
TZID:America/New_York
X-LIC-LOCATION:America/New_York
BEGIN:DAYLIGHT
DTSTART:20200308T030000
TZOFFSETFROM:-0500
TZOFFSETTO:-0400
TZNAME:EDT
END:DAYLIGHT
END:VTIMEZONE
END:VCALENDAR