BEGIN:VCALENDAR
VERSION:2.0
PRODID:-//wp-events-plugin.com//7.2.3.1//EN
TZID:America/New_York
X-WR-TIMEZONE:America/New_York
BEGIN:VEVENT
UID:185@floridafarmbureau.org
DTSTART;TZID=America/New_York:20170515T000000
DTEND;TZID=America/New_York:20170526T000000
DTSTAMP:20170516T140709Z
URL:https://floridafarmbureau.org/events/west-mims-fire-supply-drive/
SUMMARY:West Mims Fire Supply Drive
DESCRIPTION:The West Mims Fire has burned more than 152\,000 acres and is 1
 7% contained as of May 14\, with more than 860 personnel assigned.\n\nThis
  battle is far from over so please show your support and help with non-per
 ishable supplies and thank you cards!\n\nDrop supplies off at the Columbia
  County Farm Bureau Office at 605 SW SR 47\, Lake City FL\, 32025.\n\nCont
 act Katrina Moseley with questions at 386.288.9282.\n\nThis supply drive i
 s hosted by Columbia County Farm Bureau Young Farmers &amp\; Ranchers.\n\n
 View PDF.\n\nSave
LOCATION:Columbia County Farm Bureau\, 605 SW SR 47\, Lake City\, United St
 ates
GEO:30.183465;-82.63702219999999
X-APPLE-STRUCTURED-LOCATION;VALUE=URI;X-ADDRESS=605 SW SR 47\, Lake City\, 
 United States;X-APPLE-RADIUS=100;X-TITLE=Columbia County Farm Bureau:geo:3
 0.183465,-82.63702219999999
END:VEVENT
BEGIN:VTIMEZONE
TZID:America/New_York
X-LIC-LOCATION:America/New_York
BEGIN:DAYLIGHT
DTSTART:20170312T030000
TZOFFSETFROM:-0500
TZOFFSETTO:-0400
TZNAME:EDT
END:DAYLIGHT
END:VTIMEZONE
END:VCALENDAR