BEGIN:VCALENDAR
VERSION:2.0
PRODID:-//wp-events-plugin.com//7.2.3.1//EN
TZID:America/New_York
X-WR-TIMEZONE:America/New_York
BEGIN:VEVENT
UID:641@floridafarmbureau.org
DTSTART;TZID=America/New_York;VALUE=DATE:20240411
DTEND;TZID=America/New_York;VALUE=DATE:20240414
DTSTAMP:20240112T152750Z
URL:https://floridafarmbureau.org/events/womens-leadership-conference-7/
SUMMARY:Women’s Leadership Conference
DESCRIPTION:Westgate Lakes Resort\nOrlando\, FL\n\nMore information and reg
 istration coming soon.
END:VEVENT
BEGIN:VTIMEZONE
TZID:America/New_York
X-LIC-LOCATION:America/New_York
BEGIN:DAYLIGHT
DTSTART:20240310T030000
TZOFFSETFROM:-0500
TZOFFSETTO:-0400
TZNAME:EDT
END:DAYLIGHT
END:VTIMEZONE
END:VCALENDAR