BEGIN:VCALENDAR
VERSION:2.0
PRODID:-//wp-events-plugin.com//7.2.3.1//EN
TZID:America/New_York
X-WR-TIMEZONE:America/New_York
BEGIN:VEVENT
UID:71@floridafarmbureau.org
DTSTART;TZID=America/New_York;VALUE=DATE:20160715
DTEND;TZID=America/New_York;VALUE=DATE:20160718
DTSTAMP:20160729T120838Z
URL:https://floridafarmbureau.org/events/yfr-leadership-conference-2016/
SUMMARY:YF&R Leadership Conference 2016
DESCRIPTION:Nestled on 125 tropical acres along the Gulf of Mexico\, The Na
 ples Beach Hotel & Golf Club is Southwest Florida’s only beachfront hote
 l with onsite golf\, tennis and spa.
LOCATION:Naples Beach Hotel and Golf Club\, 851 Gulf Shore Blvd North\, Nap
 les\, Florida\, United States
GEO:26.1573838;-81.80914369999999
X-APPLE-STRUCTURED-LOCATION;VALUE=URI;X-ADDRESS=851 Gulf Shore Blvd North\,
  Naples\, Florida\, United States;X-APPLE-RADIUS=100;X-TITLE=Naples Beach 
 Hotel and Golf Club:geo:26.1573838,-81.80914369999999
END:VEVENT
BEGIN:VTIMEZONE
TZID:America/New_York
X-LIC-LOCATION:America/New_York
BEGIN:DAYLIGHT
DTSTART:20160313T030000
TZOFFSETFROM:-0500
TZOFFSETTO:-0400
TZNAME:EDT
END:DAYLIGHT
END:VTIMEZONE
END:VCALENDAR